BEGIN:VCALENDAR
VERSION:2.0
PRODID:-//Congregational Church of Hollis - ECPv5.8.2//NONSGML v1.0//EN
CALSCALE:GREGORIAN
METHOD:PUBLISH
X-WR-CALNAME:Congregational Church of Hollis
X-ORIGINAL-URL:https://hollischurch.org
X-WR-CALDESC:Events for Congregational Church of Hollis
BEGIN:VTIMEZONE
TZID:America/New_York
BEGIN:DAYLIGHT
TZOFFSETFROM:-0500
TZOFFSETTO:-0400
TZNAME:EDT
DTSTART:20190310T070000
END:DAYLIGHT
BEGIN:STANDARD
TZOFFSETFROM:-0400
TZOFFSETTO:-0500
TZNAME:EST
DTSTART:20191103T060000
END:STANDARD
END:VTIMEZONE
BEGIN:VEVENT
DTSTART;TZID=America/New_York:20190815T110000
DTEND;TZID=America/New_York:20190815T110000
DTSTAMP:20260423T071307
CREATED:20180603T025635Z
LAST-MODIFIED:20190531T143346Z
UID:26591-1565866800-1565866800@hollischurch.org
SUMMARY:Chimes Deadline
DESCRIPTION:
URL:https://hollischurch.org/event/chimes-submission-deadline-for-next-months-chimes-newsletter/2019-08-15/
CATEGORIES:Chimes
END:VEVENT
END:VCALENDAR