BEGIN:VCALENDAR
VERSION:2.0
PRODID:-//Congregational Church of Hollis - ECPv5.8.2//NONSGML v1.0//EN
CALSCALE:GREGORIAN
METHOD:PUBLISH
X-WR-CALNAME:Congregational Church of Hollis
X-ORIGINAL-URL:https://hollischurch.org
X-WR-CALDESC:Events for Congregational Church of Hollis
BEGIN:VTIMEZONE
TZID:America/New_York
BEGIN:DAYLIGHT
TZOFFSETFROM:-0500
TZOFFSETTO:-0400
TZNAME:EDT
DTSTART:20200308T070000
END:DAYLIGHT
BEGIN:STANDARD
TZOFFSETFROM:-0400
TZOFFSETTO:-0500
TZNAME:EST
DTSTART:20201101T060000
END:STANDARD
END:VTIMEZONE
BEGIN:VEVENT
DTSTART;TZID=America/New_York:20200514T160000
DTEND;TZID=America/New_York:20200514T170000
DTSTAMP:20260421T071458
CREATED:20200512T120926Z
LAST-MODIFIED:20200512T120926Z
UID:32803-1589472000-1589475600@hollischurch.org
SUMMARY:Christmas Fair Mtg
DESCRIPTION: 
URL:https://hollischurch.org/event/christmas-fair-mtg/
CATEGORIES:Christmas Fair
END:VEVENT
END:VCALENDAR