BEGIN:VCALENDAR
VERSION:2.0
PRODID:-//Congregational Church of Hollis - ECPv5.8.2//NONSGML v1.0//EN
CALSCALE:GREGORIAN
METHOD:PUBLISH
X-WR-CALNAME:Congregational Church of Hollis
X-ORIGINAL-URL:https://hollischurch.org
X-WR-CALDESC:Events for Congregational Church of Hollis
BEGIN:VTIMEZONE
TZID:America/New_York
BEGIN:DAYLIGHT
TZOFFSETFROM:-0500
TZOFFSETTO:-0400
TZNAME:EDT
DTSTART:20220313T070000
END:DAYLIGHT
BEGIN:STANDARD
TZOFFSETFROM:-0400
TZOFFSETTO:-0500
TZNAME:EST
DTSTART:20221106T060000
END:STANDARD
END:VTIMEZONE
BEGIN:VEVENT
DTSTART;TZID=America/New_York:20221207T180000
DTEND;TZID=America/New_York:20221207T190000
DTSTAMP:20260424T040932
CREATED:20221129T135239Z
LAST-MODIFIED:20221129T135239Z
UID:37589-1670436000-1670439600@hollischurch.org
SUMMARY:Christmas Pageant rehearsal
DESCRIPTION:
URL:https://hollischurch.org/event/christmas-pageant-rehearsal-3/
CATEGORIES:Children,Faith Formation
END:VEVENT
END:VCALENDAR