BEGIN:VCALENDAR
VERSION:2.0
PRODID:-//Congregational Church of Hollis - ECPv5.8.2//NONSGML v1.0//EN
CALSCALE:GREGORIAN
METHOD:PUBLISH
X-WR-CALNAME:Congregational Church of Hollis
X-ORIGINAL-URL:https://hollischurch.org
X-WR-CALDESC:Events for Congregational Church of Hollis
BEGIN:VTIMEZONE
TZID:America/New_York
BEGIN:DAYLIGHT
TZOFFSETFROM:-0500
TZOFFSETTO:-0400
TZNAME:EDT
DTSTART:20180311T070000
END:DAYLIGHT
BEGIN:STANDARD
TZOFFSETFROM:-0400
TZOFFSETTO:-0500
TZNAME:EST
DTSTART:20181104T060000
END:STANDARD
END:VTIMEZONE
BEGIN:VEVENT
DTSTART;TZID=America/New_York:20181215T124500
DTEND;TZID=America/New_York:20181215T134500
DTSTAMP:20260422T024254
CREATED:20181204T225254Z
LAST-MODIFIED:20181204T225254Z
UID:29573-1544877900-1544881500@hollischurch.org
SUMMARY:Church Basketball League Game
DESCRIPTION: 
URL:https://hollischurch.org/event/church-basketball-league-game-2/2018-12-15/
LOCATION:Nashua YMCA\, 24 Stadium Drive\, Nashua\, NH\, 03062\, United States
GEO:42.7470017;-71.5049757
X-APPLE-STRUCTURED-LOCATION;VALUE=URI;X-ADDRESS=Nashua YMCA 24 Stadium Drive Nashua NH 03062 United States;X-APPLE-RADIUS=500;X-TITLE=24 Stadium Drive:geo:-71.5049757,42.7470017
END:VEVENT
END:VCALENDAR