BEGIN:VCALENDAR
VERSION:2.0
PRODID:-//Congregational Church of Hollis - ECPv5.8.2//NONSGML v1.0//EN
CALSCALE:GREGORIAN
METHOD:PUBLISH
X-WR-CALNAME:Congregational Church of Hollis
X-ORIGINAL-URL:https://hollischurch.org
X-WR-CALDESC:Events for Congregational Church of Hollis
BEGIN:VTIMEZONE
TZID:America/New_York
BEGIN:DAYLIGHT
TZOFFSETFROM:-0500
TZOFFSETTO:-0400
TZNAME:EDT
DTSTART:20190310T070000
END:DAYLIGHT
BEGIN:STANDARD
TZOFFSETFROM:-0400
TZOFFSETTO:-0500
TZNAME:EST
DTSTART:20191103T060000
END:STANDARD
END:VTIMEZONE
BEGIN:VEVENT
DTSTART;TZID=America/New_York:20190623T140000
DTEND;TZID=America/New_York:20190623T160000
DTSTAMP:20260423T072347
CREATED:20190509T122251Z
LAST-MODIFIED:20190509T123405Z
UID:30508-1561298400-1561305600@hollischurch.org
SUMMARY:Capital Campaign table at the Hollis Strawberry Festival
DESCRIPTION: 
URL:https://hollischurch.org/event/come-visit-the-capital-campaign-table-at-the-hollis-strawberry-festival/
CATEGORIES:2019 Capital Campaign
END:VEVENT
END:VCALENDAR