BEGIN:VCALENDAR
VERSION:2.0
PRODID:-//Congregational Church of Hollis - ECPv5.8.2//NONSGML v1.0//EN
CALSCALE:GREGORIAN
METHOD:PUBLISH
X-WR-CALNAME:Congregational Church of Hollis
X-ORIGINAL-URL:https://hollischurch.org
X-WR-CALDESC:Events for Congregational Church of Hollis
BEGIN:VTIMEZONE
TZID:America/New_York
BEGIN:DAYLIGHT
TZOFFSETFROM:-0500
TZOFFSETTO:-0400
TZNAME:EDT
DTSTART:20210314T070000
END:DAYLIGHT
BEGIN:STANDARD
TZOFFSETFROM:-0400
TZOFFSETTO:-0500
TZNAME:EST
DTSTART:20211107T060000
END:STANDARD
END:VTIMEZONE
BEGIN:VEVENT
DTSTART;TZID=America/New_York:20210328T120000
DTEND;TZID=America/New_York:20210328T133000
DTSTAMP:20260423T132944
CREATED:20210224T141004Z
LAST-MODIFIED:20210224T141004Z
UID:34518-1616932800-1616938200@hollischurch.org
SUMMARY:Easter Food Basket Packing at Brookdale
DESCRIPTION:
URL:https://hollischurch.org/event/easter-food-basket-packing-at-brookdale/
CATEGORIES:Deacons,Service
END:VEVENT
END:VCALENDAR