BEGIN:VCALENDAR
VERSION:2.0
PRODID:-//Congregational Church of Hollis - ECPv5.8.2//NONSGML v1.0//EN
CALSCALE:GREGORIAN
METHOD:PUBLISH
X-WR-CALNAME:Congregational Church of Hollis
X-ORIGINAL-URL:https://hollischurch.org
X-WR-CALDESC:Events for Congregational Church of Hollis
BEGIN:VTIMEZONE
TZID:America/New_York
BEGIN:DAYLIGHT
TZOFFSETFROM:-0500
TZOFFSETTO:-0400
TZNAME:EDT
DTSTART:20190310T070000
END:DAYLIGHT
BEGIN:STANDARD
TZOFFSETFROM:-0400
TZOFFSETTO:-0500
TZNAME:EST
DTSTART:20191103T060000
END:STANDARD
END:VTIMEZONE
BEGIN:VEVENT
DTSTART;TZID=America/New_York:20190608T180000
DTEND;TZID=America/New_York:20190608T203000
DTSTAMP:20260421T220412
CREATED:20190510T155915Z
LAST-MODIFIED:20190510T155915Z
UID:30549-1560016800-1560025800@hollischurch.org
SUMMARY:Jr Youth Group Cookout & Capture the Flag
DESCRIPTION:
URL:https://hollischurch.org/event/jr-youth-group-cookout-capture-the-flag/
CATEGORIES:Youth Group
END:VEVENT
END:VCALENDAR