BEGIN:VCALENDAR
VERSION:2.0
PRODID:-//Congregational Church of Hollis - ECPv5.8.2//NONSGML v1.0//EN
CALSCALE:GREGORIAN
METHOD:PUBLISH
X-WR-CALNAME:Congregational Church of Hollis
X-ORIGINAL-URL:https://hollischurch.org
X-WR-CALDESC:Events for Congregational Church of Hollis
BEGIN:VTIMEZONE
TZID:America/New_York
BEGIN:DAYLIGHT
TZOFFSETFROM:-0500
TZOFFSETTO:-0400
TZNAME:EDT
DTSTART:20210314T070000
END:DAYLIGHT
BEGIN:STANDARD
TZOFFSETFROM:-0400
TZOFFSETTO:-0500
TZNAME:EST
DTSTART:20211107T060000
END:STANDARD
END:VTIMEZONE
BEGIN:VEVENT
DTSTART;TZID=America/New_York:20210112T190000
DTEND;TZID=America/New_York:20210112T200000
DTSTAMP:20260422T181853
CREATED:20201229T143846Z
LAST-MODIFIED:20201229T143846Z
UID:34101-1610478000-1610481600@hollischurch.org
SUMMARY:Mission & Action Board Meeting
DESCRIPTION: 
URL:https://hollischurch.org/event/mission-action-board-meeting-6/2021-01-12/
CATEGORIES:Meeting,Mission & Action
END:VEVENT
END:VCALENDAR