BEGIN:VCALENDAR
VERSION:2.0
PRODID:-//Congregational Church of Hollis - ECPv5.8.2//NONSGML v1.0//EN
CALSCALE:GREGORIAN
METHOD:PUBLISH
X-WR-CALNAME:Congregational Church of Hollis
X-ORIGINAL-URL:https://hollischurch.org
X-WR-CALDESC:Events for Congregational Church of Hollis
BEGIN:VTIMEZONE
TZID:America/New_York
BEGIN:DAYLIGHT
TZOFFSETFROM:-0500
TZOFFSETTO:-0400
TZNAME:EDT
DTSTART:20180311T070000
END:DAYLIGHT
BEGIN:STANDARD
TZOFFSETFROM:-0400
TZOFFSETTO:-0500
TZNAME:EST
DTSTART:20181104T060000
END:STANDARD
END:VTIMEZONE
BEGIN:VEVENT
DTSTART;VALUE=DATE:20181223
DTEND;VALUE=DATE:20181224
DTSTAMP:20260422T024254
CREATED:20181203T122523Z
LAST-MODIFIED:20181203T122624Z
UID:29560-1545523200-1545609599@hollischurch.org
SUMMARY:Poinsettia Sunday/UCC Christmas Fund Offering
DESCRIPTION: \n\n 
URL:https://hollischurch.org/event/music-sunday-poinsettia-sunday-ucc-christmas-fund-offering/
END:VEVENT
END:VCALENDAR