BEGIN:VCALENDAR
VERSION:2.0
PRODID:-//Congregational Church of Hollis - ECPv5.8.2//NONSGML v1.0//EN
CALSCALE:GREGORIAN
METHOD:PUBLISH
X-WR-CALNAME:Congregational Church of Hollis
X-ORIGINAL-URL:https://hollischurch.org
X-WR-CALDESC:Events for Congregational Church of Hollis
BEGIN:VTIMEZONE
TZID:America/New_York
BEGIN:DAYLIGHT
TZOFFSETFROM:-0500
TZOFFSETTO:-0400
TZNAME:EDT
DTSTART:20190310T070000
END:DAYLIGHT
BEGIN:STANDARD
TZOFFSETFROM:-0400
TZOFFSETTO:-0500
TZNAME:EST
DTSTART:20191103T060000
END:STANDARD
END:VTIMEZONE
BEGIN:VEVENT
DTSTART;TZID=America/New_York:20190317T160000
DTEND;TZID=America/New_York:20190317T190000
DTSTAMP:20260422T014406
CREATED:20180821T222155Z
LAST-MODIFIED:20190223T032634Z
UID:29199-1552838400-1552849200@hollischurch.org
SUMMARY:New Member Enquirer's Class (time TBD)
DESCRIPTION:
URL:https://hollischurch.org/event/new-member-enquirers-class-time-tbd-2019-03-10/
LOCATION:Rev. Tanya’s home
CATEGORIES:New Members
END:VEVENT
END:VCALENDAR