BEGIN:VCALENDAR
VERSION:2.0
PRODID:-//Congregational Church of Hollis - ECPv5.8.2//NONSGML v1.0//EN
CALSCALE:GREGORIAN
METHOD:PUBLISH
X-WR-CALNAME:Congregational Church of Hollis
X-ORIGINAL-URL:https://hollischurch.org
X-WR-CALDESC:Events for Congregational Church of Hollis
BEGIN:VTIMEZONE
TZID:America/New_York
BEGIN:DAYLIGHT
TZOFFSETFROM:-0500
TZOFFSETTO:-0400
TZNAME:EDT
DTSTART:20180311T070000
END:DAYLIGHT
BEGIN:STANDARD
TZOFFSETFROM:-0400
TZOFFSETTO:-0500
TZNAME:EST
DTSTART:20181104T060000
END:STANDARD
END:VTIMEZONE
BEGIN:VEVENT
DTSTART;TZID=America/New_York:20180922T180000
DTEND;TZID=America/New_York:20180922T210000
DTSTAMP:20260423T191805
CREATED:20180815T164629Z
LAST-MODIFIED:20180903T170836Z
UID:28859-1537639200-1537650000@hollischurch.org
SUMMARY:Senior Youth Group Pizza & Games
DESCRIPTION: 
URL:https://hollischurch.org/event/senior-youth-group-pizza-games/
CATEGORIES:Youth Group
END:VEVENT
END:VCALENDAR