BEGIN:VCALENDAR
VERSION:2.0
PRODID:-//Congregational Church of Hollis - ECPv5.8.2//NONSGML v1.0//EN
CALSCALE:GREGORIAN
METHOD:PUBLISH
X-WR-CALNAME:Congregational Church of Hollis
X-ORIGINAL-URL:https://hollischurch.org
X-WR-CALDESC:Events for Congregational Church of Hollis
BEGIN:VTIMEZONE
TZID:America/New_York
BEGIN:DAYLIGHT
TZOFFSETFROM:-0500
TZOFFSETTO:-0400
TZNAME:EDT
DTSTART:20210314T070000
END:DAYLIGHT
BEGIN:STANDARD
TZOFFSETFROM:-0400
TZOFFSETTO:-0500
TZNAME:EST
DTSTART:20211107T060000
END:STANDARD
END:VTIMEZONE
BEGIN:VEVENT
DTSTART;TZID=America/New_York:20210401T193000
DTEND;TZID=America/New_York:20210401T203000
DTSTAMP:20260423T110710
CREATED:20210318T230406Z
LAST-MODIFIED:20210323T174316Z
UID:34620-1617305400-1617309000@hollischurch.org
SUMMARY:Maundy Thursday Tenebrae Service on Zoom
DESCRIPTION:
URL:https://hollischurch.org/event/virtual-maundy-thursday-tenebrae-service/
LOCATION:Zoom
CATEGORIES:Church Service
END:VEVENT
END:VCALENDAR