BEGIN:VCALENDAR
VERSION:2.0
PRODID:-//Congregational Church of Hollis - ECPv5.8.2//NONSGML v1.0//EN
CALSCALE:GREGORIAN
METHOD:PUBLISH
X-WR-CALNAME:Congregational Church of Hollis
X-ORIGINAL-URL:https://hollischurch.org
X-WR-CALDESC:Events for Congregational Church of Hollis
BEGIN:VTIMEZONE
TZID:America/New_York
BEGIN:DAYLIGHT
TZOFFSETFROM:-0500
TZOFFSETTO:-0400
TZNAME:EDT
DTSTART:20260308T070000
END:DAYLIGHT
BEGIN:STANDARD
TZOFFSETFROM:-0400
TZOFFSETTO:-0500
TZNAME:EST
DTSTART:20261101T060000
END:STANDARD
END:VTIMEZONE
BEGIN:VEVENT
DTSTART;TZID=America/New_York:20260503T093000
DTEND;TZID=America/New_York:20260503T103000
DTSTAMP:20260425T092754
CREATED:20250804T152207Z
LAST-MODIFIED:20250804T161532Z
UID:40269-1777800600-1777804200@hollischurch.org
SUMMARY:Communion Worship
DESCRIPTION:
URL:https://hollischurch.org/event/communion-worship-4/2026-05-03/
CATEGORIES:Church Service
END:VEVENT
BEGIN:VEVENT
DTSTART;TZID=America/New_York:20260503T093000
DTEND;TZID=America/New_York:20260503T103000
DTSTAMP:20260425T092754
CREATED:20250804T160649Z
LAST-MODIFIED:20250804T160649Z
UID:40484-1777800600-1777804200@hollischurch.org
SUMMARY:'The Flock' Sunday School
DESCRIPTION:
URL:https://hollischurch.org/event/the-flock-sunday-school-4/2026-05-03/
CATEGORIES:Children,Faith Formation,Sunday School
END:VEVENT
BEGIN:VEVENT
DTSTART;TZID=America/New_York:20260503T093000
DTEND;TZID=America/New_York:20260503T103000
DTSTAMP:20260425T092754
CREATED:20260423T203421Z
LAST-MODIFIED:20260423T210607Z
UID:41018-1777800600-1777804200@hollischurch.org
SUMMARY:Flock: Children's Day Rehearsal
DESCRIPTION:
URL:https://hollischurch.org/event/flock-childrens-day-rehearsal/2026-05-03/
LOCATION:The Congregational Church of Hollis\, 3 Monument Square\, Hollis\, NH\, 03049\, United States
GEO:42.7400082;-71.5887614
X-APPLE-STRUCTURED-LOCATION;VALUE=URI;X-ADDRESS=The Congregational Church of Hollis 3 Monument Square Hollis NH 03049 United States;X-APPLE-RADIUS=500;X-TITLE=3 Monument Square:geo:-71.5887614,42.7400082
END:VEVENT
BEGIN:VEVENT
DTSTART;TZID=America/New_York:20260503T103000
DTEND;TZID=America/New_York:20260503T113000
DTSTAMP:20260425T092754
CREATED:20240918T143729Z
LAST-MODIFIED:20240918T143729Z
UID:40502-1777804200-1777807800@hollischurch.org
SUMMARY:CE (Faith Formation) Board meeting
DESCRIPTION:
URL:https://hollischurch.org/event/ce-board-meeting-13/2026-05-03/
CATEGORIES:Faith Formation
END:VEVENT
END:VCALENDAR