BEGIN:VCALENDAR
VERSION:2.0
PRODID:-//Congregational Church of Hollis - ECPv5.8.2//NONSGML v1.0//EN
CALSCALE:GREGORIAN
METHOD:PUBLISH
X-WR-CALNAME:Congregational Church of Hollis
X-ORIGINAL-URL:https://hollischurch.org
X-WR-CALDESC:Events for Congregational Church of Hollis
BEGIN:VTIMEZONE
TZID:America/New_York
BEGIN:DAYLIGHT
TZOFFSETFROM:-0500
TZOFFSETTO:-0400
TZNAME:EDT
DTSTART:20260308T070000
END:DAYLIGHT
BEGIN:STANDARD
TZOFFSETFROM:-0400
TZOFFSETTO:-0500
TZNAME:EST
DTSTART:20261101T060000
END:STANDARD
END:VTIMEZONE
BEGIN:VEVENT
DTSTART;TZID=America/New_York:20260329T093000
DTEND;TZID=America/New_York:20260329T103000
DTSTAMP:20260424T193305
CREATED:20250804T152500Z
LAST-MODIFIED:20250804T152500Z
UID:40410-1774776600-1774780200@hollischurch.org
SUMMARY:Worship
DESCRIPTION:
URL:https://hollischurch.org/event/worship-5/2026-03-29/
LOCATION:The Congregational Church of Hollis\, 3 Monument Square\, Hollis\, NH\, 03049\, United States
CATEGORIES:Church Service
GEO:42.7400082;-71.5887614
X-APPLE-STRUCTURED-LOCATION;VALUE=URI;X-ADDRESS=The Congregational Church of Hollis 3 Monument Square Hollis NH 03049 United States;X-APPLE-RADIUS=500;X-TITLE=3 Monument Square:geo:-71.5887614,42.7400082
END:VEVENT
BEGIN:VEVENT
DTSTART;TZID=America/New_York:20260329T093000
DTEND;TZID=America/New_York:20260329T103000
DTSTAMP:20260424T193305
CREATED:20250804T160649Z
LAST-MODIFIED:20250804T160649Z
UID:40481-1774776600-1774780200@hollischurch.org
SUMMARY:'The Flock' Sunday School
DESCRIPTION:
URL:https://hollischurch.org/event/the-flock-sunday-school-4/2026-03-29/
CATEGORIES:Children,Faith Formation,Sunday School
END:VEVENT
BEGIN:VEVENT
DTSTART;TZID=America/New_York:20260401T163000
DTEND;TZID=America/New_York:20260401T180000
DTSTAMP:20260424T193305
CREATED:20230825T174510Z
LAST-MODIFIED:20230825T174510Z
UID:40666-1775061000-1775066400@hollischurch.org
SUMMARY:Caring Connections meeting
DESCRIPTION:
URL:https://hollischurch.org/event/caring-connections-meeting-2-2025-10-09/2026-04-01/
CATEGORIES:Caring Connections,Meeting
END:VEVENT
BEGIN:VEVENT
DTSTART;TZID=America/New_York:20260405T093000
DTEND;TZID=America/New_York:20260405T103000
DTSTAMP:20260424T193305
CREATED:20250804T152207Z
LAST-MODIFIED:20250804T161531Z
UID:40268-1775381400-1775385000@hollischurch.org
SUMMARY:Communion Worship
DESCRIPTION:
URL:https://hollischurch.org/event/communion-worship-4/2026-04-05/
CATEGORIES:Church Service
END:VEVENT
BEGIN:VEVENT
DTSTART;TZID=America/New_York:20260405T103000
DTEND;TZID=America/New_York:20260405T113000
DTSTAMP:20260424T193305
CREATED:20240918T143729Z
LAST-MODIFIED:20240918T143729Z
UID:40501-1775385000-1775388600@hollischurch.org
SUMMARY:CE (Faith Formation) Board meeting
DESCRIPTION:
URL:https://hollischurch.org/event/ce-board-meeting-13/2026-04-05/
CATEGORIES:Faith Formation
END:VEVENT
BEGIN:VEVENT
DTSTART;TZID=America/New_York:20260406T173000
DTEND;TZID=America/New_York:20260406T190000
DTSTAMP:20260424T193305
CREATED:20250918T150958Z
LAST-MODIFIED:20250918T150958Z
UID:40680-1775496600-1775502000@hollischurch.org
SUMMARY:Stewardship Board meeting
DESCRIPTION:
URL:https://hollischurch.org/event/stewardship-board-meeting-16/2026-04-06/
END:VEVENT
BEGIN:VEVENT
DTSTART;TZID=America/New_York:20260407T160000
DTEND;TZID=America/New_York:20260407T173000
DTSTAMP:20260424T193305
CREATED:20240806T143937Z
LAST-MODIFIED:20240806T143937Z
UID:40648-1775577600-1775583000@hollischurch.org
SUMMARY:Mission & Action Board Meeting
DESCRIPTION:
URL:https://hollischurch.org/event/mission-action-board-meeting-12-2025-10-14/2026-04-07/
CATEGORIES:Meeting,Mission & Action
END:VEVENT
BEGIN:VEVENT
DTSTART;TZID=America/New_York:20260407T180000
DTEND;TZID=America/New_York:20260407T193000
DTSTAMP:20260424T193305
CREATED:20230825T173610Z
LAST-MODIFIED:20230825T173610Z
UID:40574-1775584800-1775590200@hollischurch.org
SUMMARY:Music Board meeting
DESCRIPTION:
URL:https://hollischurch.org/event/music-board-meeting-12-2025-10-07/2026-04-07/
CATEGORIES:Music
END:VEVENT
BEGIN:VEVENT
DTSTART;TZID=America/New_York:20260409T190000
DTEND;TZID=America/New_York:20260409T210000
DTSTAMP:20260424T193305
CREATED:20240806T143400Z
LAST-MODIFIED:20240806T143400Z
UID:40367-1775761200-1775768400@hollischurch.org
SUMMARY:Choir Rehearsal
DESCRIPTION:
URL:https://hollischurch.org/event/choir-rehearsal-5/2026-04-09/
END:VEVENT
BEGIN:VEVENT
DTSTART;TZID=America/New_York:20260410T160000
DTEND;TZID=America/New_York:20260410T170000
DTSTAMP:20260424T193305
CREATED:20230825T174123Z
LAST-MODIFIED:20230825T174123Z
UID:41016-1775836800-1775840400@hollischurch.org
SUMMARY:Facilities Committee meeting
DESCRIPTION:
URL:https://hollischurch.org/event/facilities-committee-meeting-9-2024-05-08/2026-04-10/
CATEGORIES:Facilities,Meeting
END:VEVENT
BEGIN:VEVENT
DTSTART;TZID=America/New_York:20260412T093000
DTEND;TZID=America/New_York:20260412T103000
DTSTAMP:20260424T193305
CREATED:20250804T152500Z
LAST-MODIFIED:20250804T152500Z
UID:40411-1775986200-1775989800@hollischurch.org
SUMMARY:Worship
DESCRIPTION:
URL:https://hollischurch.org/event/worship-5/2026-04-12/
LOCATION:The Congregational Church of Hollis\, 3 Monument Square\, Hollis\, NH\, 03049\, United States
CATEGORIES:Church Service
GEO:42.7400082;-71.5887614
X-APPLE-STRUCTURED-LOCATION;VALUE=URI;X-ADDRESS=The Congregational Church of Hollis 3 Monument Square Hollis NH 03049 United States;X-APPLE-RADIUS=500;X-TITLE=3 Monument Square:geo:-71.5887614,42.7400082
END:VEVENT
BEGIN:VEVENT
DTSTART;TZID=America/New_York:20260412T093000
DTEND;TZID=America/New_York:20260412T103000
DTSTAMP:20260424T193305
CREATED:20250804T160649Z
LAST-MODIFIED:20250804T160649Z
UID:40482-1775986200-1775989800@hollischurch.org
SUMMARY:'The Flock' Sunday School
DESCRIPTION:
URL:https://hollischurch.org/event/the-flock-sunday-school-4/2026-04-12/
CATEGORIES:Children,Faith Formation,Sunday School
END:VEVENT
BEGIN:VEVENT
DTSTART;TZID=America/New_York:20260413T190000
DTEND;TZID=America/New_York:20260413T203000
DTSTAMP:20260424T193305
CREATED:20240806T143715Z
LAST-MODIFIED:20240806T143715Z
UID:40311-1776106800-1776112200@hollischurch.org
SUMMARY:Deacons Meeting
DESCRIPTION:
URL:https://hollischurch.org/event/deacons-meeting-15/2026-04-13/
CATEGORIES:Deacons
END:VEVENT
BEGIN:VEVENT
DTSTART;TZID=America/New_York:20260415T080000
DTEND;TZID=America/New_York:20260415T170000
DTSTAMP:20260424T193305
CREATED:20250804T151843Z
LAST-MODIFIED:20250804T151843Z
UID:40257-1776240000-1776272400@hollischurch.org
SUMMARY:Chimes newsletter submission deadline
DESCRIPTION:
URL:https://hollischurch.org/event/chimes-newsletter-submission-deadline-2/2026-04-15/
END:VEVENT
BEGIN:VEVENT
DTSTART;TZID=America/New_York:20260416T171500
DTEND;TZID=America/New_York:20260416T183000
DTSTAMP:20260424T193305
CREATED:20250807T151931Z
LAST-MODIFIED:20250807T151931Z
UID:40559-1776359700-1776364200@hollischurch.org
SUMMARY:Flock Family Pizza Night
DESCRIPTION:
URL:https://hollischurch.org/event/flock-family-pizza-night/2026-04-16/
CATEGORIES:Children,Faith Formation,Fellowship
END:VEVENT
BEGIN:VEVENT
DTSTART;TZID=America/New_York:20260416T190000
DTEND;TZID=America/New_York:20260416T210000
DTSTAMP:20260424T193305
CREATED:20240806T143400Z
LAST-MODIFIED:20240806T143400Z
UID:40368-1776366000-1776373200@hollischurch.org
SUMMARY:Choir Rehearsal
DESCRIPTION:
URL:https://hollischurch.org/event/choir-rehearsal-5/2026-04-16/
END:VEVENT
BEGIN:VEVENT
DTSTART;TZID=America/New_York:20260419T093000
DTEND;TZID=America/New_York:20260419T103000
DTSTAMP:20260424T193305
CREATED:20250804T152500Z
LAST-MODIFIED:20250804T152500Z
UID:40412-1776591000-1776594600@hollischurch.org
SUMMARY:Worship
DESCRIPTION:
URL:https://hollischurch.org/event/worship-5/2026-04-19/
LOCATION:The Congregational Church of Hollis\, 3 Monument Square\, Hollis\, NH\, 03049\, United States
CATEGORIES:Church Service
GEO:42.7400082;-71.5887614
X-APPLE-STRUCTURED-LOCATION;VALUE=URI;X-ADDRESS=The Congregational Church of Hollis 3 Monument Square Hollis NH 03049 United States;X-APPLE-RADIUS=500;X-TITLE=3 Monument Square:geo:-71.5887614,42.7400082
END:VEVENT
BEGIN:VEVENT
DTSTART;TZID=America/New_York:20260419T093000
DTEND;TZID=America/New_York:20260419T103000
DTSTAMP:20260424T193305
CREATED:20250804T160649Z
LAST-MODIFIED:20250804T160649Z
UID:40483-1776591000-1776594600@hollischurch.org
SUMMARY:'The Flock' Sunday School
DESCRIPTION:
URL:https://hollischurch.org/event/the-flock-sunday-school-4/2026-04-19/
CATEGORIES:Children,Faith Formation,Sunday School
END:VEVENT
BEGIN:VEVENT
DTSTART;TZID=America/New_York:20260420T180000
DTEND;TZID=America/New_York:20260420T190000
DTSTAMP:20260424T193305
CREATED:20240806T154729Z
LAST-MODIFIED:20240806T154729Z
UID:41038-1776708000-1776711600@hollischurch.org
SUMMARY:Trustees Meeting
DESCRIPTION:
URL:https://hollischurch.org/event/trustees-meeting-12/2026-04-20/
CATEGORIES:Meeting,Trustees
END:VEVENT
BEGIN:VEVENT
DTSTART;TZID=America/New_York:20260421T183000
DTEND;TZID=America/New_York:20260421T203000
DTSTAMP:20260424T193305
CREATED:20240806T155408Z
LAST-MODIFIED:20240806T155408Z
UID:40338-1776796200-1776803400@hollischurch.org
SUMMARY:Church Council Meeting
DESCRIPTION:
URL:https://hollischurch.org/event/church-council-meeting-15/2026-04-21/
CATEGORIES:Church Council,Meeting
END:VEVENT
BEGIN:VEVENT
DTSTART;TZID=America/New_York:20260423T190000
DTEND;TZID=America/New_York:20260423T210000
DTSTAMP:20260424T193305
CREATED:20240806T143400Z
LAST-MODIFIED:20240806T143400Z
UID:40369-1776970800-1776978000@hollischurch.org
SUMMARY:Choir Rehearsal
DESCRIPTION:
URL:https://hollischurch.org/event/choir-rehearsal-5/2026-04-23/
END:VEVENT
BEGIN:VEVENT
DTSTART;TZID=America/New_York:20260425T100000
DTEND;TZID=America/New_York:20260425T140000
DTSTAMP:20260424T193305
CREATED:20260422T204315Z
LAST-MODIFIED:20260422T204315Z
UID:40985-1777111200-1777125600@hollischurch.org
SUMMARY:Finding Home Photo Exhibition (Becky Field Art Exhibit)
DESCRIPTION:Saturdays from 10:00 – 2:00 pm (April 25 through May 23)
URL:https://hollischurch.org/event/finding-home-photo-exhibition-becky-field-art-exhibit/
LOCATION:The Congregational Church of Hollis\, 3 Monument Square\, Hollis\, NH\, 03049\, United States
GEO:42.7400082;-71.5887614
X-APPLE-STRUCTURED-LOCATION;VALUE=URI;X-ADDRESS=The Congregational Church of Hollis 3 Monument Square Hollis NH 03049 United States;X-APPLE-RADIUS=500;X-TITLE=3 Monument Square:geo:-71.5887614,42.7400082
END:VEVENT
BEGIN:VEVENT
DTSTART;TZID=America/New_York:20260426T093000
DTEND;TZID=America/New_York:20260426T103000
DTSTAMP:20260424T193305
CREATED:20250804T152500Z
LAST-MODIFIED:20250804T152500Z
UID:40413-1777195800-1777199400@hollischurch.org
SUMMARY:Worship
DESCRIPTION:
URL:https://hollischurch.org/event/worship-5/2026-04-26/
LOCATION:The Congregational Church of Hollis\, 3 Monument Square\, Hollis\, NH\, 03049\, United States
CATEGORIES:Church Service
GEO:42.7400082;-71.5887614
X-APPLE-STRUCTURED-LOCATION;VALUE=URI;X-ADDRESS=The Congregational Church of Hollis 3 Monument Square Hollis NH 03049 United States;X-APPLE-RADIUS=500;X-TITLE=3 Monument Square:geo:-71.5887614,42.7400082
END:VEVENT
BEGIN:VEVENT
DTSTART;TZID=America/New_York:20260426T093000
DTEND;TZID=America/New_York:20260426T103000
DTSTAMP:20260424T193305
CREATED:20260420T002430Z
LAST-MODIFIED:20260420T002430Z
UID:40977-1777195800-1777199400@hollischurch.org
SUMMARY:No Flock
DESCRIPTION:
URL:https://hollischurch.org/event/no-flock/
END:VEVENT
BEGIN:VEVENT
DTSTART;TZID=America/New_York:20260430T190000
DTEND;TZID=America/New_York:20260430T210000
DTSTAMP:20260424T193305
CREATED:20240806T143400Z
LAST-MODIFIED:20240806T143400Z
UID:40370-1777575600-1777582800@hollischurch.org
SUMMARY:Choir Rehearsal
DESCRIPTION:
URL:https://hollischurch.org/event/choir-rehearsal-5/2026-04-30/
END:VEVENT
END:VCALENDAR