BEGIN:VCALENDAR
VERSION:2.0
PRODID:-//Congregational Church of Hollis - ECPv5.8.2//NONSGML v1.0//EN
CALSCALE:GREGORIAN
METHOD:PUBLISH
X-WR-CALNAME:Congregational Church of Hollis
X-ORIGINAL-URL:https://hollischurch.org
X-WR-CALDESC:Events for Congregational Church of Hollis
BEGIN:VTIMEZONE
TZID:America/New_York
BEGIN:DAYLIGHT
TZOFFSETFROM:-0500
TZOFFSETTO:-0400
TZNAME:EDT
DTSTART:20180311T070000
END:DAYLIGHT
BEGIN:STANDARD
TZOFFSETFROM:-0400
TZOFFSETTO:-0500
TZNAME:EST
DTSTART:20181104T060000
END:STANDARD
END:VTIMEZONE
BEGIN:VEVENT
DTSTART;TZID=America/New_York:20180912T093000
DTEND;TZID=America/New_York:20180912T113000
DTSTAMP:20260423T085654
CREATED:20180810T185441Z
LAST-MODIFIED:20180810T185441Z
UID:28673-1536744600-1536751800@hollischurch.org
SUMMARY:Christmas Fair Workshop
DESCRIPTION: 
URL:https://hollischurch.org/event/christmas-fair-workshop/
LOCATION:Deb Shipman’s House\, 45 Love Lane\, Hollis\, NH\, United States
CATEGORIES:Christmas Fair
ORGANIZER;CN="Deb%20Shipman":MAILTO:deb3ship@tds.net
GEO:42.7392625;-71.6022318
X-APPLE-STRUCTURED-LOCATION;VALUE=URI;X-ADDRESS=Deb Shipman’s House 45 Love Lane Hollis NH United States;X-APPLE-RADIUS=500;X-TITLE=45 Love Lane:geo:-71.6022318,42.7392625
END:VEVENT
END:VCALENDAR