BEGIN:VCALENDAR
VERSION:2.0
PRODID:-//Congregational Church of Hollis - ECPv5.8.2//NONSGML v1.0//EN
CALSCALE:GREGORIAN
METHOD:PUBLISH
X-WR-CALNAME:Congregational Church of Hollis
X-ORIGINAL-URL:https://hollischurch.org
X-WR-CALDESC:Events for Congregational Church of Hollis
BEGIN:VTIMEZONE
TZID:America/New_York
BEGIN:DAYLIGHT
TZOFFSETFROM:-0500
TZOFFSETTO:-0400
TZNAME:EDT
DTSTART:20200308T070000
END:DAYLIGHT
BEGIN:STANDARD
TZOFFSETFROM:-0400
TZOFFSETTO:-0500
TZNAME:EST
DTSTART:20201101T060000
END:STANDARD
END:VTIMEZONE
BEGIN:VEVENT
DTSTART;TZID=America/New_York:20201127T080000
DTEND;TZID=America/New_York:20201205T200000
DTSTAMP:20260421T233635
CREATED:20201016T233825Z
LAST-MODIFIED:20201129T172542Z
UID:33425-1606464000-1607198400@hollischurch.org
SUMMARY:Virtual Christmas Fair Online Auction & Raffle Basket Ticket Sales
DESCRIPTION: \n\n 
URL:https://hollischurch.org/event/virtual-christmas-fair-online-auction/
CATEGORIES:Christmas Fair
END:VEVENT
END:VCALENDAR