BEGIN:VCALENDAR
VERSION:2.0
PRODID:-//Congregational Church of Hollis - ECPv5.8.2//NONSGML v1.0//EN
CALSCALE:GREGORIAN
METHOD:PUBLISH
X-WR-CALNAME:Congregational Church of Hollis
X-ORIGINAL-URL:https://hollischurch.org
X-WR-CALDESC:Events for Congregational Church of Hollis
BEGIN:VTIMEZONE
TZID:America/New_York
BEGIN:DAYLIGHT
TZOFFSETFROM:-0500
TZOFFSETTO:-0400
TZNAME:EDT
DTSTART:20220313T070000
END:DAYLIGHT
BEGIN:STANDARD
TZOFFSETFROM:-0400
TZOFFSETTO:-0500
TZNAME:EST
DTSTART:20221106T060000
END:STANDARD
END:VTIMEZONE
BEGIN:VEVENT
DTSTART;TZID=America/New_York:20220724T104500
DTEND;TZID=America/New_York:20220724T113000
DTSTAMP:20260420T081804
CREATED:20220609T024939Z
LAST-MODIFIED:20220609T024939Z
UID:36791-1658659500-1658662200@hollischurch.org
SUMMARY:Adam Verrecchia Memorial Community Garden Dedication
DESCRIPTION:
URL:https://hollischurch.org/event/adam-verrecchia-memorial-community-garden-dedication/
LOCATION:Adam Verrecchia Memorial Community Garden (back of library/church parking lot)\, 3 Monument Square\, Hollis\, NH\, 03049\, United States
CATEGORIES:Community
GEO:42.7400082;-71.5887614
X-APPLE-STRUCTURED-LOCATION;VALUE=URI;X-ADDRESS=Adam Verrecchia Memorial Community Garden (back of library/church parking lot) 3 Monument Square Hollis NH 03049 United States;X-APPLE-RADIUS=500;X-TITLE=3 Monument Square:geo:-71.5887614,42.7400082
END:VEVENT
END:VCALENDAR