BEGIN:VCALENDAR
VERSION:2.0
PRODID:-//Congregational Church of Hollis - ECPv5.8.2//NONSGML v1.0//EN
CALSCALE:GREGORIAN
METHOD:PUBLISH
X-WR-CALNAME:Congregational Church of Hollis
X-ORIGINAL-URL:https://hollischurch.org
X-WR-CALDESC:Events for Congregational Church of Hollis
BEGIN:VTIMEZONE
TZID:America/New_York
BEGIN:DAYLIGHT
TZOFFSETFROM:-0500
TZOFFSETTO:-0400
TZNAME:EDT
DTSTART:20230312T070000
END:DAYLIGHT
BEGIN:STANDARD
TZOFFSETFROM:-0400
TZOFFSETTO:-0500
TZNAME:EST
DTSTART:20231105T060000
END:STANDARD
END:VTIMEZONE
BEGIN:VEVENT
DTSTART;TZID=America/New_York:20230409T060000
DTEND;TZID=America/New_York:20230409T170000
DTSTAMP:20260419T200105
CREATED:20230322T144625Z
LAST-MODIFIED:20230322T144625Z
UID:37851-1681020000-1681059600@hollischurch.org
SUMMARY:Add Flowers to Flowering Easter Cross
DESCRIPTION:
URL:https://hollischurch.org/event/add-flowers-to-flowering-easter-cross-2023/
CATEGORIES:Community
END:VEVENT
END:VCALENDAR