BEGIN:VCALENDAR
VERSION:2.0
PRODID:-//Congregational Church of Hollis - ECPv5.8.2//NONSGML v1.0//EN
CALSCALE:GREGORIAN
METHOD:PUBLISH
X-WR-CALNAME:Congregational Church of Hollis
X-ORIGINAL-URL:https://hollischurch.org
X-WR-CALDESC:Events for Congregational Church of Hollis
BEGIN:VTIMEZONE
TZID:America/New_York
BEGIN:DAYLIGHT
TZOFFSETFROM:-0500
TZOFFSETTO:-0400
TZNAME:EDT
DTSTART:20190310T070000
END:DAYLIGHT
BEGIN:STANDARD
TZOFFSETFROM:-0400
TZOFFSETTO:-0500
TZNAME:EST
DTSTART:20191103T060000
END:STANDARD
END:VTIMEZONE
BEGIN:VEVENT
DTSTART;TZID=America/New_York:20190201T183000
DTEND;TZID=America/New_York:20190201T210000
DTSTAMP:20260421T230828
CREATED:20180815T122123Z
LAST-MODIFIED:20180815T122123Z
UID:28794-1549045800-1549054800@hollischurch.org
SUMMARY:Confirmation visit to Temple Beth Abraham
DESCRIPTION:
URL:https://hollischurch.org/event/confirmation-visit-to-temple-beth-abraham/
LOCATION:Temple Beth Abraham\, 4 Raymond St\, Nashua\, NH\, United States
CATEGORIES:Confirmation
GEO:42.7698708;-71.4627524
X-APPLE-STRUCTURED-LOCATION;VALUE=URI;X-ADDRESS=Temple Beth Abraham 4 Raymond St Nashua NH United States;X-APPLE-RADIUS=500;X-TITLE=4 Raymond St:geo:-71.4627524,42.7698708
END:VEVENT
END:VCALENDAR