BEGIN:VCALENDAR
VERSION:2.0
PRODID:-//Congregational Church of Hollis - ECPv5.8.2//NONSGML v1.0//EN
CALSCALE:GREGORIAN
METHOD:PUBLISH
X-WR-CALNAME:Congregational Church of Hollis
X-ORIGINAL-URL:https://hollischurch.org
X-WR-CALDESC:Events for Congregational Church of Hollis
BEGIN:VTIMEZONE
TZID:America/New_York
BEGIN:DAYLIGHT
TZOFFSETFROM:-0500
TZOFFSETTO:-0400
TZNAME:EDT
DTSTART:20190310T070000
END:DAYLIGHT
BEGIN:STANDARD
TZOFFSETFROM:-0400
TZOFFSETTO:-0500
TZNAME:EST
DTSTART:20191103T060000
END:STANDARD
END:VTIMEZONE
BEGIN:VEVENT
DTSTART;TZID=America/New_York:20190414T103000
DTEND;TZID=America/New_York:20190414T113000
DTSTAMP:20260421T205158
CREATED:20180815T013611Z
LAST-MODIFIED:20180815T013611Z
UID:28780-1555237800-1555241400@hollischurch.org
SUMMARY:Confirmation Class
DESCRIPTION:
URL:https://hollischurch.org/event/confirmation-class-2-2-2-2-2-2-2-2-2-2/
CATEGORIES:Confirmation
END:VEVENT
BEGIN:VEVENT
DTSTART;TZID=America/New_York:20190414T114500
DTEND;TZID=America/New_York:20190414T124500
DTSTAMP:20260421T205158
CREATED:20180815T121603Z
LAST-MODIFIED:20180815T121603Z
UID:28790-1555242300-1555245900@hollischurch.org
SUMMARY:Packing Easter Food Baskets
DESCRIPTION:
URL:https://hollischurch.org/event/packing-thanksgiving-food-baskets-2-2/
LOCATION:Brookdale packing plant\, 38 Broad St\, Hollis\, NH\, 03049\, United States
CATEGORIES:Confirmation,Deacons,Mission & Action
GEO:42.7427327;-71.5823162
X-APPLE-STRUCTURED-LOCATION;VALUE=URI;X-ADDRESS=Brookdale packing plant 38 Broad St Hollis NH 03049 United States;X-APPLE-RADIUS=500;X-TITLE=38 Broad St:geo:-71.5823162,42.7427327
END:VEVENT
END:VCALENDAR