BEGIN:VCALENDAR
VERSION:2.0
PRODID:-//Congregational Church of Hollis - ECPv5.8.2//NONSGML v1.0//EN
CALSCALE:GREGORIAN
METHOD:PUBLISH
X-WR-CALNAME:Congregational Church of Hollis
X-ORIGINAL-URL:https://hollischurch.org
X-WR-CALDESC:Events for Congregational Church of Hollis
BEGIN:VTIMEZONE
TZID:America/New_York
BEGIN:DAYLIGHT
TZOFFSETFROM:-0500
TZOFFSETTO:-0400
TZNAME:EDT
DTSTART:20190310T070000
END:DAYLIGHT
BEGIN:STANDARD
TZOFFSETFROM:-0400
TZOFFSETTO:-0500
TZNAME:EST
DTSTART:20191103T060000
END:STANDARD
END:VTIMEZONE
BEGIN:VEVENT
DTSTART;TZID=America/New_York:20190929T114500
DTEND;TZID=America/New_York:20190929T130000
DTSTAMP:20260421T131649
CREATED:20190929T124351Z
LAST-MODIFIED:20190929T124351Z
UID:31625-1569757500-1569762000@hollischurch.org
SUMMARY:Confirmand/Mentor Lunch
DESCRIPTION:
URL:https://hollischurch.org/event/confirmand-mentor-lunch/
CATEGORIES:Confirmation
END:VEVENT
END:VCALENDAR